BEGIN:VCALENDAR
VERSION:2.0
PRODID:-//wp-events-plugin.com//7.2.3.1//EN
TZID:America/Detroit
X-WR-TIMEZONE:America/Detroit
BEGIN:VEVENT
UID:85549@stage.annarborwithkids.com
DTSTART;TZID=America/Detroit:20250704T160000
DTEND;TZID=America/Detroit:20250704T220000
DTSTAMP:20250702T195328Z
URL:https://stage.annarborwithkids.com/events/first-friday-ypsilanti-3-202
 5-07-04/
SUMMARY:No July First Friday Ypsilanti
DESCRIPTION:\nThere will not be a First Friday in July since it is July 4th
 . I didn't find an announcement on their website or social media\, but the
  Maiz email newsletter says no First Friday. And as of July 2\, there are 
 no July events listed.\n\n\n\nMake your plans to attend First Friday Ypsil
 anti. Each month from April through December\, Ypsilanti celebrates with s
 pecial activities and sales along Michigan Ave and in Depot Town. Bring th
 e family out and enjoy the entertainment\, activities\, and community.\n\n
 \n\nParticipating&nbsp\;hours may vary by venue.\n\n\n\nCheck out their Fa
 cebook for information on each month's events. \n\n\n\nSelect April highli
 ghts that may be more kid-friendly\n\n\n\n\nFriday Soft Goods - 10% off sh
 irts &amp\; free Faygo\n\n\n\nSCRAP &amp\; Maiz - 4-7p- Earth Month Crafti
 ng \n\n\n\nRiverside Arts Center - 5-7p 30th Anniversary Exhibition and Bu
 tton Making\n\n\n\nYours Truly Vendor Show - 6-9p - Vendor Show with Easte
 r Bunny\n\n
CATEGORIES:Babies,Elementary,Free,High Schoolers,Middle
 Schoolers,Music/Concerts,Parents,Preschoolers,Shopping,Toddler
LOCATION:Downtown Ypsilanti\, 1 Huron St\, Ypsilanti\, Michigan\, 48197\, Y
 psilanti\, United States
GEO:42.2407765;-83.61284969999997
X-APPLE-STRUCTURED-LOCATION;VALUE=URI;X-ADDRESS=1 Huron St\, Ypsilanti\, Mi
 chigan\, 48197\, Ypsilanti\, United States;X-APPLE-RADIUS=100;X-TITLE=Down
 town Ypsilanti:geo:42.2407765,-83.61284969999997
END:VEVENT
BEGIN:VTIMEZONE
TZID:America/Detroit
X-LIC-LOCATION:America/Detroit
BEGIN:DAYLIGHT
DTSTART:20250309T030000
TZOFFSETFROM:-0500
TZOFFSETTO:-0400
TZNAME:EDT
END:DAYLIGHT
END:VTIMEZONE
END:VCALENDAR