BEGIN:VCALENDAR
VERSION:2.0
PRODID:-//wp-events-plugin.com//7.2.3.1//EN
TZID:America/Detroit
X-WR-TIMEZONE:America/Detroit
BEGIN:VEVENT
UID:85555@stage.annarborwithkids.com
DTSTART;TZID=America/Detroit:20250404T160000
DTEND;TZID=America/Detroit:20250404T190000
DTSTAMP:20250331T224916Z
URL:https://stage.annarborwithkids.com/events/earth-month-crafting/
SUMMARY:Earth Month Crafting
DESCRIPTION:\nCome celebrate Earth Month &amp\; the kickoff of First Friday
 s Ypsilanti with us! SCRAP A2 &amp\; MAIZ Mexican Cantina are partnering t
 o host another fun night of creative reuse crafting on the back patio \n\
 n\n\nMake sun-catchers\, collage magnets\, &amp\; reuse journals. For all 
 ages. Event is free.\n\n\n\n\n
CATEGORIES:Arbor Annie's Highlights,Crafts,Earth Day,Elementary,High
 Schoolers,Middle Schoolers,Outdoor,Parents,Preschoolers
LOCATION:Maiz Mexican Cantina\, 36 East Cross St\, Ypsilanti\, Michigan\, 4
 8197\, United States
GEO:42.245752;-83.609773
X-APPLE-STRUCTURED-LOCATION;VALUE=URI;X-ADDRESS=36 East Cross St\, Ypsilant
 i\, Michigan\, 48197\, United States;X-APPLE-RADIUS=100;X-TITLE=Maiz Mexic
 an Cantina:geo:42.245752,-83.609773
END:VEVENT
BEGIN:VTIMEZONE
TZID:America/Detroit
X-LIC-LOCATION:America/Detroit
BEGIN:DAYLIGHT
DTSTART:20250309T030000
TZOFFSETFROM:-0500
TZOFFSETTO:-0400
TZNAME:EDT
END:DAYLIGHT
END:VTIMEZONE
END:VCALENDAR